BEGIN:VCALENDAR
VERSION:2.0
PRODID:-//hacksw/handcal//NONSGML v1.0//EN
BEGIN:VEVENT
SUMMARY:Challenge Omnisports
UID:d8759a2f-25fe-48a1-9e91-f01b5536dc4f
DTSTART:20251127T090000Z
DTEND:20251127T153000Z
LOCATION:Localisation Stade de ma ville 72000 LE MANS
CATEGORIES:Sportif
STATUS:
DESCRIPTION:<p>Le challenge Omnisports organise par le club debutera
 sur le grand stade de la ville.<br>Les prix seront remis en
 soiree.</p>
URL;VALUE=URI:https://la-boule-tresifontaine.sportsregions.fr/evenements/2025/11/27/challenge-omnisports-2364098
END:VEVENT
END:VCALENDAR
